BEGIN:VCALENDAR
VERSION:2.0
CALSCALE:GREGORIAN
PRODID:-//Diputació de Barcelona//DibaCMS//EN
BEGIN:VEVENT
UID:24231
DTSTAMP:20260422T005358
DTSTART:20260309T170000
DTEND:20260309T180000
SUMMARY:Taller especial 8M dedicat al milfulles
LOCATION:Horts Comunitaris de Can Travé 
METHOD:PUBLISH
X-WR-CALNAME:cubelles@cubelles.cat
X-WR-TIMEZONE:Europe/Madrid
DESCRIPTION:Dilluns 9 de març us oferin una Jornada de portes obertes als Horts Comunitaris de Can Travé ( de 17.00 a 18.00 h.), que inclourà un taller monogràfic dedicat al milfulles (Achillea millefolium), planta tradicionalment vinculada a la salut de les dones.

 

URI:https://www.cubelles.cat/informacio-i-actualitat/agenda/taller-especial-8m-dedicat-al-milfulles.html
CLASS:PUBLIC
END:VEVENT
END:VCALENDAR
