BEGIN:VCALENDAR
VERSION:2.0
CALSCALE:GREGORIAN
PRODID:-//Diputació de Barcelona//DibaCMS//EN
BEGIN:VEVENT
UID:24217
DTSTAMP:20260422T005216
DTSTART:20260308T110000
DTEND:20260308T160000
SUMMARY:8M Dia Internacional de les Dones
LOCATION:08880 Cubelles
METHOD:PUBLISH
X-WR-CALNAME:cubelles@cubelles.cat
X-WR-TIMEZONE:Europe/Madrid
DESCRIPTION:El 8 de març, jornada central

Cubelles commemora el Dia Internacional de les Dones amb una jornada central el diumenge 8 de març, dins la programació que s'allargarà durant tot el mes de març i en la què hi han participat diverses regidories i àmbits municipals amb l'obectiu de fer una proposta transversal que impregni totes les accions municipals i en la que s'hi pugui sumar tothom.

Consulta el programa sencer en aquest enllaç!

El 8M és reivindicació, és compromís i és comunitat. Suma’t als actes i participa-hi!

 

Programa · Diumenge 8 de març 

9.00 h
Taller d’autodefensa per a adolescents i joves
📍 Espai Jove
(Per a noies de 3r d’ESO fins a 29 anys · Inscripció a la Tramit Smart App)

11.00 h
Trobada institucional i lectura del manifest
📍 Plaça de la Vila

11.30 h (aprox.)
Marxa fins al passeig Marítim amb la marching band Zebrass

12.00 h
Actuació dels Castellers del Foix
📍 Passeig Marítim · En el marc del Cubermut

13.30 h
Dinar de dones
📍 Minigolf Cubelles
(Dinamització a càrrec de Las Señoras que Pinchan i SIAD Garraf · Cal inscripció prèvia en aquest enllaç)

15.45 h
Teen’s League Multiesports Femenina
📍 Escola Charlie Rivel
(Per a 1r i 2n d’ESO · Inscripció a la Tramit Smart App)

 

URI:https://www.cubelles.cat/informacio-i-actualitat/agenda/24217-8m-dia-internacional-de-les-dones.html
CLASS:PUBLIC
END:VEVENT
END:VCALENDAR
