BEGIN:VCALENDAR
VERSION:2.0
CALSCALE:GREGORIAN
PRODID:-//Diputació de Barcelona//DibaCMS//EN
BEGIN:VEVENT
UID:23117
DTSTAMP:20260421T232927
DTSTART:20241215T000000
DTEND:20241215T000000
SUMMARY:Vine a trobar el teu tió de Nadal
LOCATION:
METHOD:PUBLISH
X-WR-CALNAME:cubelles@cubelles.cat
X-WR-TIMEZONE:Europe/Madrid
DESCRIPTION:
URI:https://www.cubelles.cat/informacio-i-actualitat/agenda/vine-a-trobar-el-teu-tio-de-nadal.html
CLASS:PUBLIC
END:VEVENT
END:VCALENDAR
